BEGIN:VCALENDAR
VERSION:2.0
PRODID:-//accentenoifair.ro - ECPv4.4.5//NONSGML v1.0//EN
CALSCALE:GREGORIAN
METHOD:PUBLISH
X-WR-CALNAME:accentenoifair.ro
X-ORIGINAL-URL:https://accentenoifair.ro
X-WR-CALDESC:Events for accentenoifair.ro
BEGIN:VEVENT
DTSTART;TZID=UTC+0:20130810T000000
DTEND;TZID=UTC+0:20130915T000000
DTSTAMP:20260420T124219
CREATED:20170424T091803Z
LAST-MODIFIED:20170424T112327Z
UID:1681-1376092800-1379203200@accentenoifair.ro
SUMMARY:AuGust de Vacanta 2013 - Festivalul Verii
DESCRIPTION:Tematica: Festivalul verii\nLocatie: Parcul\n\n \nBucuresti\,\nTargul este compus din casute de lemn (3mx2mx2\,5m)\, in care vizitatorii vor gasi produse si obiecte specifice conceptului (complex expozitional in Parcul “Alexandru Ioan Cuza” - fost I.O.R\, cu standuri de prezentare a unei oferte originale:\n\n\n\n-\nproduse alimentare diverse;\n\n-\nbauturi\, dulciuri\, produse apicole\, cafea\, ceai;\n\n-\nsuveniruri\, produse realizate de artisti plastici si artisti populari\, produse hand-made;\n\n-\ncarti\, muzica\, jocuri\, jucarii;\n\n-\noferte turistice\, cosmetice;\n\n-\nalte produse si servicii tematice;\n\n\n[supsystic-gallery id='31']\n
URL:https://accentenoifair.ro/event/august-de-vacanta-2013-festivalul-verii/
END:VEVENT
END:VCALENDAR