BEGIN:VCALENDAR
VERSION:2.0
PRODID:-//accentenoifair.ro - ECPv4.4.5//NONSGML v1.0//EN
CALSCALE:GREGORIAN
METHOD:PUBLISH
X-WR-CALNAME:accentenoifair.ro
X-ORIGINAL-URL:https://accentenoifair.ro
X-WR-CALDESC:Events for accentenoifair.ro
BEGIN:VEVENT
DTSTART;VALUE=DATE:20170419
DTEND;VALUE=DATE:20170421
DTSTAMP:20260421T113055
CREATED:20170414T092815Z
LAST-MODIFIED:20170414T092815Z
UID:92-1492560000-1492819199@accentenoifair.ro
SUMMARY:BioFest 2017
DESCRIPTION:Bucuresti\,\nAccente NOI Fair va invita sa participati in perioada 19 - 21 mai 2017 la BioFest - targul produselor sanatoase\, dedicat publicului larg\, prin punerea in contact direct a cerererii si ofertei actuale existente pe piata produselor organice din Romania. Evenimentul va fi implementat in interior cu standuri de prezentare\, sub forma de insule\, amplasate la parter pe aleile circulate ale Bucuresti Mall Vitan.\n Cine? Noi\, adica Accente NOI Fair\, activam pe piata de trade show marketing din Romania de 12 ani avand experienta implementarii la nivel local si national a unor evenimente tematice de succes. \n Ce? BioFest\, un festival complet de evidentiere a ofertei de produse food si non-food certificate bio\, romanesti si straine\, care isi gasesc greu locul in marea de produse industriale. De asemenea\, evenimentul va contine happeninguri\, prezentari de produse\, prezentari de programe in sensul tematicii.\n-          Produse de ingrijire a pielii din ingrediente naturale si organice;\n-          Ceaiuri si cafea bio\, uleiuri organice\, cereale\, dulciuri etc.;\n-          Suplimente nutrititive si produse pentru terapii;\n-          Produse raw vegan; Alimente fara gluten;\n-          Bauturi non-alcoolice si alcoolice bio;\n-          Alte produse\, din tematica targului\, certificate bio sau cu ingrediente naturale;\n Unde? Bucuresti Mall Vitan este primul shoping mall din Bucuresti cu trafic important de vizitatori si cu un profil al vizitatorului cu venituri peste medie\, interesat\, in baza studiilor realizate intern (in cei 5 ani de impelementare evenimente aici)\, de achizitia si consumul de produse sanatoase de calitate.  Standurile vor fi pozitionate la parter pe culoarul principal de la intrarea Starbucks – Lacoste – Tommy Hilfiger – H&M\, oferind vizibilitate maxima tuturor firmelor expozante. \nCand? Weekendul 19 - 21 mai. \nDetalii organizatorice: Suprafata de expunere este insulara aflata pe mijlocul culoarului de acces si are dimensiunea de 3mp (2mx1\,5m). Mobilierul de expunere al expozantilor nu poate depasi inaltimea de 1\,2 m. De asemenea\, mobilierul de expunere trebuie sa respecte cerintele minime de estetica ale mallului.\nFirmele expozante care nu detin mobilier propriu de expunere pot solicita organizatorului oferta pentru punerea la dispozitie a unor module expozitionale.\nEvenimentul este organizat de Accente NOI Fair cu sprijinul Bucuresti Mall si BioShopRomania.\nPentru inscrieri ca expozant in cadrul targului\, va rugam sa ne trimiteti pe e-mail intentia dumneavoastra de participare alaturi de lista de produse pe care doriti sa le expuneti / comercilaizati. \nMapa cu tarifele de inscriere va fi facuta publica in data de 10 aprilie 2017\, moment in care vom demara sesiunea de inscrieri / contractari. Numarul de standuri este limitat.\nPentru orice fel de detalii organizatorice suplimentare\, va rugam sa ne contactati.\n Cu stima\,\n Echipa Accente NOI Fair\n0727 870 793 / 0723 257 994\naccentenoi@gmail.com\ncipriandinca@accentenoi.ro\nandreeadinca@accentenoi.ro
URL:https://accentenoifair.ro/event/biofest-2017/
LOCATION:Calea Vitan 55-59\, Bucuresti\, Romania
ATTACH;FMTTYPE=image/jpeg:https://accentenoifair.ro/wp-content/uploads/2017/04/17918263_1187033658074704_272285093_n.jpg
ORGANIZER;CN="Echipa%20Accente%20NOI%20Fair":MAILTO:accentenoi@gmail.com
END:VEVENT
END:VCALENDAR