BEGIN:VCALENDAR
VERSION:2.0
PRODID:-//accentenoifair.ro - ECPv4.4.5//NONSGML v1.0//EN
CALSCALE:GREGORIAN
METHOD:PUBLISH
X-WR-CALNAME:accentenoifair.ro
X-ORIGINAL-URL:https://accentenoifair.ro
X-WR-CALDESC:Events for accentenoifair.ro
BEGIN:VEVENT
DTSTART;TZID=UTC+0:20101130T000000
DTEND;TZID=UTC+0:20101206T000000
DTSTAMP:20260423T200540
CREATED:20170424T091753Z
LAST-MODIFIED:20170424T100731Z
UID:1642-1291075200-1291593600@accentenoifair.ro
SUMMARY:Desaga lu' MOS NICOLAE -“ Targul Cadourilor de Iarna
DESCRIPTION:ematica: Cadouri\nLocatie: Palatul Copiilor\n\nBucuresti\,\n\nTârgul Cadourilor de Iarnă – "Desaga lu' Moș Nicolae"\, 30 noiembrie - 6 decembrie 2010\, ce se va desfășura în Palatul Copiilor\, va consolida exercițiul de imagine și tradiția unei manifestări de succes organizată în București.\n\nManifestarea expozițională va conține: cadouri realizate de artiști plastici\, artiști populari\, bijuterii din aur și argint\, pietre prețioase și semiprețioase\, produse de confiserie\, accesorii\, obiecte de design interior\, jocuri\, jucării\, decorațiuni interioare\, design vestimentar\, cadouri specifice lunii decembrie.\n\nPe toată perioada de desfășurare publicul vizitator va beneficia de multiple facilități\, precum concursuri tematice\, tombole.\n\n[supsystic-gallery id='49']
URL:https://accentenoifair.ro/event/desaga-lu-mos-nicolae-targul-cadourilor-de-iarna/
END:VEVENT
END:VCALENDAR