BEGIN:VCALENDAR
VERSION:2.0
PRODID:-//accentenoifair.ro - ECPv4.4.5//NONSGML v1.0//EN
CALSCALE:GREGORIAN
METHOD:PUBLISH
X-WR-CALNAME:accentenoifair.ro
X-ORIGINAL-URL:https://accentenoifair.ro
X-WR-CALDESC:Events for accentenoifair.ro
BEGIN:VEVENT
DTSTART;TZID=UTC+0:20150407T000000
DTEND;TZID=UTC+0:20150410T000000
DTSTAMP:20260420T010225
CREATED:20170424T091821Z
LAST-MODIFIED:20170424T115219Z
UID:1726-1428364800-1428624000@accentenoifair.ro
SUMMARY:CORPORATE SPRING FEST - Targul de Florii si Paste 2015
DESCRIPTION:Targul este implementat in doua dintre cele mai mari si importante centre de birouri din Bucuresti. In fiecare locatie isi desfasoara activitatea peste 6000 de persoane care activeaza in companii de succes ca: Renault\, Ericsson\, Unicredit\, Hewlett Packard\, Yokogawa\, GE Money\, Societe Generale\, Carestream\, Kraft Food\, Alpha Bank etc.\n\nCentrul de birouri West Gate este situat in zona de vest a orasului Bucuresti\, in Militari iar Novo Park in zona de nord a capitalei\, in Pipera. Ambele sunt cotate pe piata de specialitate ca cele mai moderne si de succes parcuri de birouri din tara.\n\nProiectul expozitional vine ca urmare a succeselor inregistrate cu evenimentele anterior implementate aici si  asigura firmelor expozante impactul maxim dorit\, intrucat standurile sunt pozitionate in fiecare receptie\, la intrarea in cladire. Evenimentul face parte din programul de responsabilitate sociala care ne indruma in relatia cu partenerii nostri.\n\nTematica targului este compusa din urmatoarele categorii:\n\n- general: decoratiuni de sezon\, cosuri cadou\, bijuterii\, cosmetice\, accesorii de creator\, design floral\, artizanat\, produse si accesorii hand-made etc.;\n\n- delicatese: produse de confiserie\, dulciuri\, cafea\, ceai.\n\n- educative: carti\, cd-uri si dvd-uri cu muzica\, ateliere creative;\n\n- traditionale: oua incondeiate\, icoane\, cozonaci;\n\n[supsystic-gallery id='17']\n\n \n\n 
URL:https://accentenoifair.ro/event/easter-gifts-fair-2015/
END:VEVENT
END:VCALENDAR