BEGIN:VCALENDAR
VERSION:2.0
PRODID:-//accentenoifair.ro - ECPv4.4.5//NONSGML v1.0//EN
CALSCALE:GREGORIAN
METHOD:PUBLISH
X-WR-CALNAME:accentenoifair.ro
X-ORIGINAL-URL:https://accentenoifair.ro
X-WR-CALDESC:Events for accentenoifair.ro
BEGIN:VEVENT
DTSTART;TZID=UTC+0:20100430T000000
DTEND;TZID=UTC+0:20100502T000000
DTSTAMP:20260423T151242
CREATED:20170424T091753Z
LAST-MODIFIED:20170424T095542Z
UID:1640-1272585600-1272758400@accentenoifair.ro
SUMMARY:Eurofest. Biblioteca de gusturi
DESCRIPTION:Tematica: Gastronomie\n\nLocatie: Parcul “Alexandru Ioan Cuza” (fost I.O.R.)\n\n[supsystic-gallery id='53']
URL:https://accentenoifair.ro/event/eurofest-biblioteca-de-gusturi-2/
END:VEVENT
END:VCALENDAR