BEGIN:VCALENDAR
VERSION:2.0
PRODID:-//accentenoifair.ro - ECPv4.4.5//NONSGML v1.0//EN
CALSCALE:GREGORIAN
METHOD:PUBLISH
X-WR-CALNAME:accentenoifair.ro
X-ORIGINAL-URL:https://accentenoifair.ro
X-WR-CALDESC:Events for accentenoifair.ro
BEGIN:VEVENT
DTSTART;TZID=UTC+0:20161129T000000
DTEND;TZID=UTC+0:20161226T000000
DTSTAMP:20260419T152036
CREATED:20170424T091828Z
LAST-MODIFIED:20170424T121125Z
UID:1744-1480377600-1482710400@accentenoifair.ro
SUMMARY:Festivalul Cadourilor de Craciun - Outdoor Christmas Market 2016
DESCRIPTION:Tematica: Cadouri\nLocatie: Park Lake Shopping Center\nAdresa: Parcul Titan (Str. Liviu Rebreanu nr. 4)\nBucuresti\,\n\nVa invitam sa participati la Festivalul Cadourilor de Craciun 2016 in Park Lake\, in perioada 29 nov. – 26 dec. 2016.\n\n\n ParkLake Shopping Center se evidențiaza ca fiind un complex comercial unic\, proiectat conform ultimelor standarde de urbanism și arhitectura\, intr-un cadru natural\, primitor\, in imediata apropiere a parcului și lacului Titan. Este gandit sa reuneasca trei concepte principale: natura\, parcul și familia.\n Asadar\, punem la cale cele mai inspirate festivaluri de sarbatori in care cadourile dichisite vor fi actorii principali. Bunatatile si traditiile romanesti vor fi prezente in cadrul evenimentului si se vor remarca prin gust si calitate.\n Standurile pentru expunerea produselor si serviciilor sunt asigurate de organizator si vor fi sub forma de casute din lemn de 6mp. Acestea vor fi amplasate in prelungirea spre exterior a promenadei\, langa patinoar\, cu vizibilitate maxima pentru firmele expozante.\nDarurile de sezon vor avea forme dintre cele mai diverse\, de la traditional la modern: artizanat\, decoratiuni specifice cu miros de lavanda\, cosuri cadou premium cu produse romanesti traditionale naturale\, produse traditionale romanesti din carne\, dulceturi\, zacusti\, miere\, ceaiuri aromate\, dulciuri din martipan in forme inedite\, accesorii personalizate\, cosmetice naturale si multe alte surprize minunate.\n De-a lungul festivalului vor avea loc cooking show-uri live realizate de cei mai cunoscuti chefi.\n Povestea cadourilor de iarna se va desfasura in ambianta sonora a melodiilor de Craciun\, a spectacolelor pentru copii\, atelierelor creative\, conturand atmosfera calda a sarbatorilor de iarna. Ce mai astepti? Promoveaza-ti produsele efficient la Park Lake Shopping Center!\n\nContacteaza-ne la office@accentenoi.ro sau 0723 257 994\, pentru a afla detaliile organizatorice.\n[supsystic-gallery id='5']\n\n\n 
URL:https://accentenoifair.ro/event/festivalul-cadourilor-de-craciun-outdoor-christmas-market-2016/
END:VEVENT
END:VCALENDAR