BEGIN:VCALENDAR
VERSION:2.0
PRODID:-//accentenoifair.ro - ECPv4.4.5//NONSGML v1.0//EN
CALSCALE:GREGORIAN
METHOD:PUBLISH
X-WR-CALNAME:accentenoifair.ro
X-ORIGINAL-URL:https://accentenoifair.ro
X-WR-CALDESC:Events for accentenoifair.ro
BEGIN:VEVENT
DTSTART;TZID=UTC+0:20161021T000000
DTEND;TZID=UTC+0:20161030T000000
DTSTAMP:20260419T182029
CREATED:20170424T091827Z
LAST-MODIFIED:20170424T120938Z
UID:1739-1477008000-1477785600@accentenoifair.ro
SUMMARY:FESTIVALUL CASTANELOR 2016 - OUTDOOR FOOD FESTIVAL
DESCRIPTION:Tematica: Gastronomie\nLocatie: PLAZA ROMANIA\nAdresa: B-DUL TIMISOARA NR. 26\n\nBucuresti\,\n\nVă așteptăm la primul Festival al Castanelor din București!\n\n• În cadrul festivalului\, Chef Scărlătescu va prepara live o rețetă de clătite personală\n• Sâmbătă\, 22 octombrie și duminică\, 23 octombrie\, Chef Gabriel Toader va demonstra live cum se face piureul de castane\n• Cei mici vor putea învăța cum să confecționeze jucării si podoabe de Crăciun din castane\, în ateliere creative de joacă\n• Vunk si Jurjak vor concerta ca parte din festival\, sambata\, 22 octombrie\, ora 19:00\, respectiv duminica\, 23 octombrie\, ora 19:00\n\nÎn perioada 21 – 30 octombrie\, organizăm în Plaza România Festivalul Castanelor\, eveniment în premieră în București. Acesta reunește peste 20 de expozanți hotărâți să aducă aromele toamnei în viețile bucureștenilor. Pe lângă inconfundabilele castane coapte\, vizitatorii vor avea ocazia să descopere la standurile festivalului adevarate delicii culinare pe baza de castane\, ateliere creative de handmade pentru cei mici\, precum și alte bucate și obiceiuri tradiționale de toamnă. Evenimentul va avea loc în aer liber\, în parcarea Plaza România.\n\n\nProtagonistele festivalului vor fi produsele culinare pe bază de castane: clătite\, gauffre\, piure-uri și alte preparate surpriză. De-a lungul festivalului vor avea loc show-uri live de gătit: standul de clatite “Sora lu’ Scărlătescu” îl va avea ca invitat într-o sesiune de live cooking pe Chef Scărlătescu și împreună vor prepara o rețetă de clătite special creată de Chef. De asemenea\, Chef Gabriel Toader\, Grill World\, specialist în grill care contribuie la emisiunea Chefi la Cuțite (Antena 1)\, va pregăti live piure de castane\, sâmbătă\, 22 octombrie și duminica\, 23 octombrie.\n\n\nPentru cei mici\, am pregătit o serie de ateliere creative unde copiii pot învăța să confecționeze jucării handmade\, măști de Halloween sau chiar podoabe de Crăciun din castane. De asemenea\, ei vor putea să picteze tricouri cu teme tradiționale sau să realizeze produse handmade de artizanat românesc – desagi\, păpuși etc.\nÎn weekendul 22-23 octombrie\, vizitatorii Festivalului Castanelor se vor putea delecta și cu două concerte: Vunk\, sâmbată\, 22 octombrie\, ora 19:00 și Concert Jurjak\, duminică\, 23 octombrie\, ora 19:00 ambele în parcarea Plaza România. \n\n\nȘi pentru că e toamnă\, nu vor lipsi produsele tradiționale de sezon – dulcețuri\, murături\, must\, siropuri\, zacuști – și nici dulciurile de îmblânzit vremea rece: poale’n brâu și cozonaci moldovenești\, kurtos colac sau chiar prăjituri tradiționale naturale românești după rețete vechi.\n\n \n\nVă așteptăm cu drag\, muzică\, voie bună și multe surprize culinare!\n\n[supsystic-gallery id='7']\n\n
URL:https://accentenoifair.ro/event/festivalul-castanelor-2016-outdoor-food-festival/
END:VEVENT
END:VCALENDAR