BEGIN:VCALENDAR
VERSION:2.0
PRODID:-//accentenoifair.ro - ECPv4.4.5//NONSGML v1.0//EN
CALSCALE:GREGORIAN
METHOD:PUBLISH
X-WR-CALNAME:accentenoifair.ro
X-ORIGINAL-URL:https://accentenoifair.ro
X-WR-CALDESC:Events for accentenoifair.ro
BEGIN:VEVENT
DTSTART;TZID=UTC+0:20130606T000000
DTEND;TZID=UTC+0:20130609T000000
DTSTAMP:20260420T134728
CREATED:20170424T091800Z
LAST-MODIFIED:20170424T104850Z
UID:1672-1370476800-1370736000@accentenoifair.ro
SUMMARY:Festivalul de Inghetata si Ciocolata - ICE CHOCO 2013
DESCRIPTION:Tematica: Gastronomie\nLocatie: Bucuresti Mall Vitan\nAdresa: Calea Vitan nr. 55 -59\, Sector 3\nBucuresti\,\n\nIn cadrul festivalului vizitatorii vor gasi produse inedite de inghetata si ciocolata de la artizani din tara si strainatate. Totodata\, atmosfera va fi intregita si sustinuta de proiecte diverse care constau in prezentari\, concursuri\, tombole\, premii\, realizate pe durata manifestarii.\n\n\n\n•realizam un complex expozitional in Bucuresti Mall (membru Anchor Grup)\, cu standuri de prezentare a unei oferte originale\, cu un meniu de combinatii literar - gastronomice inedite\, folosind elemente creative de la cei mai diversi artizani (expunere la Parter\, langa balaustrada din Rotonda\, in zone adiacente si pe culoarul H&M – Starbucks) .\n\n\n•pentru eficientizarea dialogolui cu vizitatorii\, vor mai fi amenajate standuri de prezentare sub forma de insule.\n\n\n•fiecare zi va sta sub semnul dialogului prin lansari de noi produse\, concursuri cu premii\, lansari de carte\, show-uri gastronomice si alte manifestari conexe.\n\n\n•toti expozantii inscrisi in cadrul Festivalului au datoria de a sustine evenimentele amintite la punctul anterior.\n\n\n[supsystic-gallery id='33']\n
URL:https://accentenoifair.ro/event/festivalul-de-inghetata-si-ciocolata-ice-choco-2013/
LOCATION:Calea Vitan 55-59\, Bucuresti\, Romania
END:VEVENT
END:VCALENDAR