BEGIN:VCALENDAR
VERSION:2.0
PRODID:-//accentenoifair.ro - ECPv4.4.5//NONSGML v1.0//EN
CALSCALE:GREGORIAN
METHOD:PUBLISH
X-WR-CALNAME:accentenoifair.ro
X-ORIGINAL-URL:https://accentenoifair.ro
X-WR-CALDESC:Events for accentenoifair.ro
BEGIN:VEVENT
DTSTART;TZID=UTC+0:20130920T000000
DTEND;TZID=UTC+0:20131020T000000
DTSTAMP:20260420T104426
CREATED:20170424T091805Z
LAST-MODIFIED:20170424T112545Z
UID:1685-1379635200-1382227200@accentenoifair.ro
SUMMARY:Targul Aromelor din Burg 2013
DESCRIPTION:Tematica: Gastronomie\nLocatie: Parcul\nAdresa: Sector 3\n\nBucuresti\,\n\nTargul este compus din casute de lemn (3mx2mx2\,5m)\, in care vizitatorii vor gasi produse si obiecte specifice conceptului (complex expozitional in Parcul “Alexandru Ioan Cuza” - fost I.O.R\, situat pe platoul de la terenurile de sport din zona bisericii maramuresene\,cu standuri de prezentare a unei oferte originale: produse alimentare traditionale romanesti si straine\, bauturi\, dulciuri\, produse apicole\, vinuri\, suveniruri\, carti\, jucarii\, oferte turistice\, produse realizate de artisti plastici si artisti populari\, produse hand-made\, etc).\\n\n[supsystic-gallery id='30']
URL:https://accentenoifair.ro/event/targul-aromelor-din-burg-2013/
END:VEVENT
END:VCALENDAR