BEGIN:VCALENDAR
VERSION:2.0
PRODID:-//accentenoifair.ro - ECPv4.4.5//NONSGML v1.0//EN
CALSCALE:GREGORIAN
METHOD:PUBLISH
X-WR-CALNAME:accentenoifair.ro
X-ORIGINAL-URL:https://accentenoifair.ro
X-WR-CALDESC:Events for accentenoifair.ro
BEGIN:VEVENT
DTSTART;TZID=UTC+0:20101112T000000
DTEND;TZID=UTC+0:20101114T000000
DTSTAMP:20260423T212258
CREATED:20170424T091753Z
LAST-MODIFIED:20170424T100531Z
UID:1646-1289520000-1289692800@accentenoifair.ro
SUMMARY:Targul Aromelor din Burg
DESCRIPTION:Tematica: Gastronomie\n\nLocatie: Muzeul Municipiului Bucuresti - Palatul Sutu\n\nAdresa: Piata Universitatii\n\nBucuresti\,\n\n\nTargul este compus din corturi (2\,5mx2\,5mx2\,5m) decorate in stil medieval\, reiterand atmosfera vechilor bresle\, in care vizitatorii vor gasi produse si obiecte specifice conceptului (complex expozitional cu standuri de prezentare a unei oferte originale: produse alimentare traditionale romanesti si straine\, suveniruri tematice\, artizanat\, jucarii\, obiecte realizate de artisti plastici\, antichitati etc.). Decorul\, unul special\, ne va purta prin negura istoriei.\n\n[supsystic-gallery id='48']
URL:https://accentenoifair.ro/event/targul-aromelor-din-burg/
END:VEVENT
END:VCALENDAR