BEGIN:VCALENDAR
VERSION:2.0
PRODID:-//accentenoifair.ro - ECPv4.4.5//NONSGML v1.0//EN
CALSCALE:GREGORIAN
METHOD:PUBLISH
X-WR-CALNAME:accentenoifair.ro
X-ORIGINAL-URL:https://accentenoifair.ro
X-WR-CALDESC:Events for accentenoifair.ro
BEGIN:VEVENT
DTSTART;TZID=UTC+0:20151202T000000
DTEND;TZID=UTC+0:20151204T000000
DTSTAMP:20260419T214033
CREATED:20170424T091821Z
LAST-MODIFIED:20170424T115315Z
UID:1728-1449014400-1449187200@accentenoifair.ro
SUMMARY:Targul Cadourilor de Iarna 2015 - Editia Corporate
DESCRIPTION:\n\nTematica: Cadouri\nLocatie: WEST GATE SI NOVO PARC\nAdresa: Strada Preciziei nr. 24 si Strada Fabrica de Glucoza nr. 5\nBucuresti\,\n\nTargul este implementat in doua dintre cele mai mari si importante centre de birouri din Bucuresti. In fiecare locatie isi desfasoara activitatea peste 8000 de persoane care activeaza in companii de succes ca: Renault\, Ericsson\, Unicredit\, Hewlett Packard\, Yokogawa\, GE Money\, Societe Generale\, Carestream\, Kraft Food\, Alpha Bank etc.\n\n\n Perioadele de desfasurare\, in ambele locatii West Gate si Novo Park\, sunt urmatoarele:\n2 - 4 dec. 2015 si 16 - 23 dec. 2016.\n[supsystic-gallery id='16']\n \n\n
URL:https://accentenoifair.ro/event/targul-cadourilor-de-iarna-2015-editia-corporate/
END:VEVENT
END:VCALENDAR