BEGIN:VCALENDAR
VERSION:2.0
PRODID:-//accentenoifair.ro - ECPv4.4.5//NONSGML v1.0//EN
CALSCALE:GREGORIAN
METHOD:PUBLISH
X-WR-CALNAME:accentenoifair.ro
X-ORIGINAL-URL:https://accentenoifair.ro
X-WR-CALDESC:Events for accentenoifair.ro
BEGIN:VEVENT
DTSTART;TZID=UTC+0:20161125T000000
DTEND;TZID=UTC+0:20161223T000000
DTSTAMP:20260419T165329
CREATED:20170424T091827Z
LAST-MODIFIED:20170424T121028Z
UID:1743-1480032000-1482451200@accentenoifair.ro
SUMMARY:Targul Cadourilor de Iarna 2016 - Desaga lu' Mos Craciun ed. a VII-a
DESCRIPTION:Tematica: Cadouri\nLocatie: Bucuresti Mall Vitan si Plaza Romania\nAdresa: Calea Vitan 55 - 59 si B-dul Timisoara 26\n\nBucuresti\,\n\nCea de a VII-a editie a targului de cadouri dedicat sarbatorilor de iarna se va desfasura in doua dintre cele mai vizitate mall-uri din capitala: Bucuresti Mall Vitan (25 nov. - 23 dec.) si Plaza Romania (26 nov. - 23 dec.).\n\n\nRelansate in primavara acestui an\, cu un design novator\, cele doua centre comerciale se pozitioneaza in topul celor mai importante mall-uri din Bucuresti prin numarul mare si constant de vizitatori. De asemenea\, sunt centrele comerciale cu cel mai mare grad de fidelizare al clientilor.\n\nAsadar\, punem la cale cele mai inspirate festivaluri de sarbatori in care cadourile dichisite vor fi actorii principali.\n\nDarurile de sezon vor avea forme dintre cele mai diverse\, de la traditional la modern: artizanat\, decoratiuni specifice cu miros de lavanda\, oua incondeiate\, icoane\, cosuri cadou premium cu produse romanesti traditionale naturale\, confiserie belgiana\, ceaiuri aromate\, dulciuri din martipan in forme inedite\, accesorii personalizate\, science gadget-uri\, bijuterii fanteziste\, cosmetice naturale si multe alte surprize minunate.\n\nPovestea cadourilor de iarna se va desfasura in ambianta celor mai cunoscute acorduri ale unor trupe celebre conturand atmosfera calda a sarbatorilor de iarna.\n\nStandurile pentru expunerea produselor si serviciilor sunt asigurate de organizator. Acestea vor fi AMPLASATE LA PARTER\, pe aleile circulate ale centrelor comerciale\, asigurand vizibilitate maxima tuturor firmelor expozante.\n\nVa reamintim ca pentru participarea in cadrul manifestarii expozitionale firmele expozante care nu au participat anterior la niciun eveniment organizat de Accente NOI Fair trebuie sa transmita pe e-mail o prezentare insotita de fotografii de produs precum si o fotografie de stand de la alte expozitii.\nMapa evenimentelor se obtine prin cerere scrisa la adresele de e-mail: office@accentenoi.ro sau accentenoi@gmail.com.\n\nVa multumim si va asteptam cu drag sa va promovati produsele / serviciile eficient!\n\n \n\n
URL:https://accentenoifair.ro/event/targul-cadourilor-de-iarna-2016-desaga-lu-mos-craciun-ed-a-vii-a/
END:VEVENT
END:VCALENDAR