BEGIN:VCALENDAR
VERSION:2.0
PRODID:-//accentenoifair.ro - ECPv4.4.5//NONSGML v1.0//EN
CALSCALE:GREGORIAN
METHOD:PUBLISH
X-WR-CALNAME:accentenoifair.ro
X-ORIGINAL-URL:https://accentenoifair.ro
X-WR-CALDESC:Events for accentenoifair.ro
BEGIN:VEVENT
DTSTART;TZID=UTC+0:20131127T000000
DTEND;TZID=UTC+0:20131223T000000
DTSTAMP:20260420T093249
CREATED:20170424T091808Z
LAST-MODIFIED:20170424T112705Z
UID:1691-1385510400-1387756800@accentenoifair.ro
SUMMARY:Targul Cadourilor de Iarna - Desaga lu' Mos Craciun 2013\, editia a IV-a
DESCRIPTION:Tematica: Festival cadouri\nLocatie: Bucuresti Mall\nAdresa: Calea Vitan nr. 55 - 59\nBucuresti\,\n\nVa invitam sa participati in perioada 27 noiembrie - 23 decembrie in Bucuresti Mall\, respectiv 29 noiembrie - 23 decembrie 2012 in Plaza Romania\, la TARGUL CADOURILOR DE IARNA - Desaga lu Mos Craciun 2013 editia a IV-a\, dedicat publicului larg prin temele specifice perioadei.\n\n\nExpozantii care opteaza pentru participare in ambele mall-uri beneficiaza de o reducere de 10% din tariful cel mai mic.\nDiversitatea tematica a targului:\nCadouri specifice: decoratiuni de sezon atent selectate\, cosuri cadou\, globuri pictate manual etc.\nCadouri didactice: carti\, cd-uri si dvd-uri cu muzica si filme\, albume de fotografie\, gravuri\, jocuri\, jucarii etc.\nCadouri generale cu specific: cosmetice\, obiecte realizate de artisti populari si artisti plastici\, bijuterii\, accesorii vestimentare\, obiecte si vestimentatie vintage\, produse hand-made\, aranjamente florale\, delicatese culinare etc..\nCadouri alimentatie publica: dulciuri\, ciocolaterie\, cafea\, ceaiuri\, vin\, bauturi fine etc..\nNumarul de standuri este limitat.\nVa asteptam cu drag!\n\n\n[supsystic-gallery id='29']
URL:https://accentenoifair.ro/event/targul-cadourilor-de-iarna-desaga-lu-mos-craciun-2013-editia-a-iv-a-2/
END:VEVENT
END:VCALENDAR