BEGIN:VCALENDAR
VERSION:2.0
PRODID:-//accentenoifair.ro - ECPv4.4.5//NONSGML v1.0//EN
CALSCALE:GREGORIAN
METHOD:PUBLISH
X-WR-CALNAME:accentenoifair.ro
X-ORIGINAL-URL:https://accentenoifair.ro
X-WR-CALDESC:Events for accentenoifair.ro
BEGIN:VEVENT
DTSTART;TZID=UTC+0:20141128T000000
DTEND;TZID=UTC+0:20141228T000000
DTSTAMP:20260420T010652
CREATED:20170424T091815Z
LAST-MODIFIED:20170424T114036Z
UID:1714-1417132800-1419724800@accentenoifair.ro
SUMMARY:Targul Cadourilor de Iarna - Desaga lu' Mos Craciun 2014\, Ed. a V - a
DESCRIPTION:Tematica: Cadouri\nLocatie: Cora Pantelimon\n\nBucuresti \,\n\nPentru imaginea unitara a targului standurile de interior  sunt modulare sub forma de desk-uri vitrate si vor fi asigurate de Organizator. Sunt acceptate doua firme expozante in stand\, numai cu acordul organizatorului.\n\nTargul se desfasoara in interior pe aleile circulate ale hypermarketului (zona caselor de marcat si adiacent).\nTematica targurilor:\n- Decoratiuni Craciun\, globuri pictate manual;\n- Cadouri inedite;\n- Cosuri cadou premium;\n- Dulciuri: cozonac\, turta dulce\, prajituri de casa\, produse din ciocolata\, serbet\,etc.;\n- Delicatese-produse gourmet: ceaiuri\, cafea\, miere\, zacusca\, siropuri\, sucuri naturale\,etc.;\n- Cosmetice naturale artizanale;\n- Artizanat: ii\, caciuli\, fulare\, botosi\, manusi;\n- Icoane\, lumanari parfumate;\n- Decoratiuni din sticla\, ceramica\, mici decoratiuni;\n- Muzica: cd-uri si dvd-uri\, viniluri premium cu muzica de colectie si de sezon;\n- Accesorii hand-made si decoratiuni unicat\, bijuterii;\n- Accesorii si articole vintage;\n- Flori si decoratiuni florale\, designeri florali.\n- Altele de comun acord;\n\nMapa de prezentare impreuna cu tarifele de participarea la unul dintre cele doua targuri de cadouri sau la ambele\,se obtin prin transmiterea unei cereri laaccentenoi@gmail.com\, cipriandinca@accentenoi.ro sauandreeadinca@accentenoi.ro.\nAdeziunile sunt primite si inregistrate incepand cu ziua de miercuri 5 noiembrie 2014.\n[supsystic-gallery id='23']\n\n
URL:https://accentenoifair.ro/event/targul-cadourilor-de-iarna-desaga-lu-mos-craciun-2014-ed-a-v-a/
END:VEVENT
END:VCALENDAR