BEGIN:VCALENDAR
VERSION:2.0
PRODID:-//accentenoifair.ro - ECPv4.4.5//NONSGML v1.0//EN
CALSCALE:GREGORIAN
METHOD:PUBLISH
X-WR-CALNAME:accentenoifair.ro
X-ORIGINAL-URL:https://accentenoifair.ro
X-WR-CALDESC:Events for accentenoifair.ro
BEGIN:VEVENT
DTSTART;TZID=UTC+0:20151126T000000
DTEND;TZID=UTC+0:20151223T000000
DTSTAMP:20260419T231900
CREATED:20170424T091821Z
LAST-MODIFIED:20170424T115253Z
UID:1727-1448496000-1450828800@accentenoifair.ro
SUMMARY:Targul Cadourilor de Iarna - Desaga lu' Mos Craciun 2015\, Ed. a VI - a
DESCRIPTION:Cea de a VI-a editie a celui mai important targ de cadouri dedicat sarbatorilor de iarna se va desfasura in doua dintre cele mai vizitate mall-uri din capitala: Bucuresti Mall (26 nov. - 23 dec.) si Plaza Romania (27 nov. - 23 dec.).\n\nIncepand cu aceasta editie standurile pentru expunerea produselor si serviciilor sunt asigurate de organizator. Acestea vor fi amplasate numai la parter pe aleile circulate ale centrelor comerciale asigurand vizibilitate maxima tuturor firmelor expozante.\n\nVa reamintim ca pentru participarea in cadrul manifestarii expozitionale firmele expozante care nu au participat anterior la niciun eveniment organizat de Accente NOI Fair trebuie sa transmita pe e-mail o prezentare insotita de fotografii de produs precum si o fotografie de stand de la alte expozitii.\n\nMapa evenimnetelor se obtine prin cerere scrisa la adresele de e-mail din sectiunea contact a site-ului.\n\nVa multumim si va asteptam cu drag sa participati la cele mai apreciate evenimente tematice!\n\n[supsystic-gallery id='14']
URL:https://accentenoifair.ro/event/targul-cadourilor-de-iarna-desaga-lu-mos-craciun-2015-ed-a-vi-a/
END:VEVENT
END:VCALENDAR