BEGIN:VCALENDAR
VERSION:2.0
PRODID:-//accentenoifair.ro - ECPv4.4.5//NONSGML v1.0//EN
CALSCALE:GREGORIAN
METHOD:PUBLISH
X-WR-CALNAME:accentenoifair.ro
X-ORIGINAL-URL:https://accentenoifair.ro
X-WR-CALDESC:Events for accentenoifair.ro
BEGIN:VEVENT
DTSTART;TZID=UTC+0:20110415T000000
DTEND;TZID=UTC+0:20110501T000000
DTSTAMP:20260425T101830
CREATED:20170424T091753Z
LAST-MODIFIED:20170424T101423Z
UID:1644-1302825600-1304208000@accentenoifair.ro
SUMMARY:Targul de Florii\, Paste si 1 Mai
DESCRIPTION:Tematica: Cadouri\nLocatie: Parcul "Alexandru Ioan Cuza" (fost I.O.R.)\nAdresa: zona Titan - langa biserica maramureseana\n\nBucuresti\,\n\nTargul este compus din 29 de casute din lemn (3mx2mx2\,5m)\, in care vizitatorii vor gasi produse si obiecte specifice conceptului (complex expozitional in Parcul “Alexandru Ioan Cuza”\, cu standuri de prezentare a unei oferte diversificate: de la combinatiile literar-gastronomice la produse si servicii specifice celor 3 sarbatori).\n\nDeasemenea\, vor mai fi amenajate standuri cu: decoratiuni specifice sarbatorilor\, jucarii\, obiecte realizate de artisti populari si artisti plastici\, bauturi\, suveniruri\, cosmetice\, oferte turistice\, carti\, enciclopedii gastronomice\, reviste de specialitate\, precum si produse alimentare din aceeasi diversitate culturala.
URL:https://accentenoifair.ro/event/targul-de-florii-paste-si-1-mai/
END:VEVENT
END:VCALENDAR