BEGIN:VCALENDAR
VERSION:2.0
PRODID:-//accentenoifair.ro - ECPv4.4.5//NONSGML v1.0//EN
CALSCALE:GREGORIAN
METHOD:PUBLISH
X-WR-CALNAME:accentenoifair.ro
X-ORIGINAL-URL:https://accentenoifair.ro
X-WR-CALDESC:Events for accentenoifair.ro
BEGIN:VEVENT
DTSTART;TZID=UTC+0:20160420T000000
DTEND;TZID=UTC+0:20160429T000000
DTSTAMP:20260419T211746
CREATED:20170424T091827Z
LAST-MODIFIED:20170424T120808Z
UID:1738-1461110400-1461888000@accentenoifair.ro
SUMMARY:Targul de Florii si Paste - SPRING FEST ed. a IV-a
DESCRIPTION:Va invitam sa va inscrieti la SPRING FEST - TARGUL CADOURILOR DE FLORII SI PASTE 2015 care se va desfasura in perioada 20 – 29 aprilie 2016 in Bucuresti Mall-Vitan\, respectiv 21 - 29 aprilie 2016 in Plaza Romania.\n\n​Manifestarea expozitionala reprezinta unul dintre cele mai apreciate evenimente pe piata cadourilor conexe din Bucuresti.\n\n \n\nTematica targului este compusa din urmatoarele categorii:\n\n- general: decoratiuni de sezon\, cosuri cadou\, bijuterii\, cosmetice\, accesorii de creator\, design floral\, artizanat\, produse si accesorii hand-made etc.;\n\n- delicatese: produse de confiserie\, dulciuri\, cafea\, ceai.\n\n- educative: carti\, cd-uri si dvd-uri cu muzica\, ateliere creative;\n\n- traditionale: oua incondeiate\, icoane\, cozonaci;\n\n \n\nPentru eficientizarea dialogului si a procedurilor de inscriere: Firmele expozante care nu au participat\, anterior\, la un targ de Paste in Plaza Romania sau Bucuresti Mall organizat de Accente NOI Fair\, trebuie sa trimita o scurta prezentare a activitatii si a produselor / serviciilor pe care doresc sa le expuna in cadrul manifestarii expozitionale. Totodata\, prezentarea va fi insotita de o fotografie de stand de la alte evenimente.\n\nStandul de prezentare este asigurat de organizator tuturor firmelor participante. Adeziunile pentru inscrieri sunt primite incepand cu data de 21 martie 2016.\n\nVa multumim si va asteptam cu drag sa participati la targuri de cadouri inspirate!\n\n[supsystic-gallery id='10']
URL:https://accentenoifair.ro/event/targul-de-florii-si-paste-spring-fest-ed-a-iv-a/
END:VEVENT
END:VCALENDAR