BEGIN:VCALENDAR
VERSION:2.0
PRODID:-//accentenoifair.ro - ECPv4.4.5//NONSGML v1.0//EN
CALSCALE:GREGORIAN
METHOD:PUBLISH
X-WR-CALNAME:accentenoifair.ro
X-ORIGINAL-URL:https://accentenoifair.ro
X-WR-CALDESC:Events for accentenoifair.ro
BEGIN:VEVENT
DTSTART;TZID=UTC+0:20130919T000000
DTEND;TZID=UTC+0:20130922T000000
DTSTAMP:20260420T122718
CREATED:20170424T091802Z
LAST-MODIFIED:20170424T112423Z
UID:1676-1379548800-1379808000@accentenoifair.ro
SUMMARY:Targul de Placeri Urbane - BUCURESTI MALLIPSITOR 2013\, editia a II-a
DESCRIPTION:Tematica: Festival de Zilele Bucurestiului\nLocatie: Bucuresti Mall\nAdresa: Calea Vitan nr. 55 - 59\nBucuresti \,\n\nDupa succesul inregistrat anul trecut\, va asteptam cu drag sa sarbatorim zilele orasului la a II-a editie a Targului de Placeri Urbane - Bucuresti Mallipsitor\, in perioada 19 – 22 septembrie 2013\, in Bucuresti Mall din Calea Vitan nr. 55 –59.​\n\n\nStandurile vor contine produse/servicii din urmatoarele teme:\n- carti\, muzica\, fotografii\, carti postale\, antichitati;\n- confiserie\, dulciuri fine\, cafea\, ceai\, inghetata\, dulceturi;\n- design vestimentar de epoca\, cosmetice\, accesorii vestimentare vintage si multesurprize imbietoare;\n- altele cu tematica specifica;\nStandurile au forma de insula si sunt pozitionate pe toata suprafata comuna a Mallului (pe culoarele destinate vizitatorilor). Mobilierul de expunere este in sarcina expozantilor. Pentru inscriere\, firmele expozante care nu au mai participat la un eveniment organizat de Accente NOI Fair in Bucuresti Mall\, sunt rugate sa transmita pe e-mail o scurta prezentare a produselor\, fotografii de produs si o fotografie relevanta cu mobilierul utilizat la amenajarea spatiului de expunere.\n[supsystic-gallery id='32']\n\n
URL:https://accentenoifair.ro/event/targul-de-placeri-urbane-bucuresti-mallipsitor-2013-editia-a-ii-a/
END:VEVENT
END:VCALENDAR