BEGIN:VCALENDAR
VERSION:2.0
PRODID:-//accentenoifair.ro - ECPv4.4.5//NONSGML v1.0//EN
CALSCALE:GREGORIAN
METHOD:PUBLISH
X-WR-CALNAME:accentenoifair.ro
X-ORIGINAL-URL:https://accentenoifair.ro
X-WR-CALDESC:Events for accentenoifair.ro
BEGIN:VEVENT
DTSTART;TZID=UTC+0:20090717T000000
DTEND;TZID=UTC+0:20090816T000000
DTSTAMP:20260423T164751
CREATED:20170424T091750Z
LAST-MODIFIED:20170424T095254Z
UID:1633-1247788800-1250380800@accentenoifair.ro
SUMMARY:Targul Estival Constanta
DESCRIPTION:Tematica: Cultura educatie souvenir\n\nLocatie: Pavilionul Expozitional Mamaia\n\nAdresa: Constanta\n\n[supsystic-gallery id='56']
URL:https://accentenoifair.ro/event/targul-estival-constanta/
END:VEVENT
END:VCALENDAR