BEGIN:VCALENDAR
VERSION:2.0
PRODID:-//accentenoifair.ro - ECPv4.4.5//NONSGML v1.0//EN
CALSCALE:GREGORIAN
METHOD:PUBLISH
X-WR-CALNAME:accentenoifair.ro
X-ORIGINAL-URL:https://accentenoifair.ro
X-WR-CALDESC:Events for accentenoifair.ro
BEGIN:VEVENT
DTSTART;TZID=UTC+0:20140211T000000
DTEND;TZID=UTC+0:20140216T000000
DTSTAMP:20260420T073657
CREATED:20170424T091811Z
LAST-MODIFIED:20170424T113048Z
UID:1700-1392076800-1392508800@accentenoifair.ro
SUMMARY:Targul Indragostitilor 2014
DESCRIPTION:Tematica: Cadouri\nLocatie: Bucuresti Mall si Plaza Romania\nAdresa: Calea Vitan nr. 55. - 59; B-dul Timisoara nr 26\nBucuresti\,\n\nIn cadrul evenimentului vizitatorii vor gasi produse care vor reda atmosfera de sarbatoare a tuturor indragostitilor. In acest sens se vor implementa proiecte diverse sub forma de standuri tematice insulare\, individuale\, personalizate\, pe culoarele Mall-ului.\n\n\nFestivalul pune in prim-plan sarbatoarea Zilei Indragostitilor cu elementele sale inedite\, de la traditional la modern.\nIn acest sens\, perioadele de desfasurare sunt urmatoarele:\n\nTargul Indragostitilor 2014\, ed. a II-a:\n- 11 - 16 februarie in Bucuresti Mall Vitan;\n- 12 - 16 februarie in Plaza Romania;\nMapa (prezentare\, tarife\, plan amplasare standuri etc.) va fi facuta publica incepand cu data de 24 ianuarie\, moment in care vom incepe si inscrierile.\nVa multumim si va asteptam sa fiti alaturi de evenimentele noastre\, deja consacrate\, ca si pana acum!\n[supsystic-gallery id='28']\n\n
URL:https://accentenoifair.ro/event/targul-indragostitilor-2014/
END:VEVENT
END:VCALENDAR