BEGIN:VCALENDAR
VERSION:2.0
PRODID:-//accentenoifair.ro - ECPv4.4.5//NONSGML v1.0//EN
CALSCALE:GREGORIAN
METHOD:PUBLISH
X-WR-CALNAME:accentenoifair.ro
X-ORIGINAL-URL:https://accentenoifair.ro
X-WR-CALDESC:Events for accentenoifair.ro
BEGIN:VEVENT
DTSTART;TZID=UTC+0:20090225T000000
DTEND;TZID=UTC+0:20090308T000000
DTSTAMP:20260423T151350
CREATED:20170424T091752Z
LAST-MODIFIED:20170424T095208Z
UID:1636-1235520000-1236470400@accentenoifair.ro
SUMMARY:Targul martisorului 2009
DESCRIPTION:Tematica: Cadouri\n\nLocatie: Teatrul National de Opereta “Ion Dacian”\n\nAdresa: Bucuresti\n\n[supsystic-gallery id='58']
URL:https://accentenoifair.ro/event/targul-martisorului-2009/
END:VEVENT
END:VCALENDAR