BEGIN:VCALENDAR
VERSION:2.0
PRODID:-//accentenoifair.ro - ECPv4.4.5//NONSGML v1.0//EN
CALSCALE:GREGORIAN
METHOD:PUBLISH
X-WR-CALNAME:accentenoifair.ro
X-ORIGINAL-URL:https://accentenoifair.ro
X-WR-CALDESC:Events for accentenoifair.ro
BEGIN:VEVENT
DTSTART;TZID=UTC+0:20150224T000000
DTEND;TZID=UTC+0:20150227T000000
DTSTAMP:20260420T010503
CREATED:20170424T091821Z
LAST-MODIFIED:20170424T114816Z
UID:1723-1424736000-1424995200@accentenoifair.ro
SUMMARY:Targul Martisorului 2015
DESCRIPTION:Tematica: Cadouri\nLocatie: West Gate si Novo Park\nAdresa: Strada Preciziei nr. 24 si Strada Fabrica de Glucoza nr. 5\n\n \n\nBucuresti\,\n\nTargul este implementat in doua dintre cele mai mari si importante centre de birouri din Bucuresti. In fiecare locatie isi desfasoara activitatea peste 6000 de persoane care activeaza in companii de succes ca: Renault\, Ericsson\, Unicredit\, Hewlett Packard\, Yokogawa\, GE Money\, Societe Generale\, Carestream\, Kraft Food\, Alpha Bank etc.\n\nProiectul expozitional asigura firmelor expozante impactul maxim dorit\, intrucat standurile vor fi pozitionate in fiecare receptie\, la intrarea in cladire. Evenimentul face parte din programul de responsabilitate sociala care ne indruma in relatia cu partenerii nostri.\n\nExpozantii pot opta si pentru inscriere in cadrul editiei prelungite dedicata zilei de 8 Martie (2 - 6 martie 2015).\n\n[supsystic-gallery id='21']
URL:https://accentenoifair.ro/event/targul-martisorului-2015/
END:VEVENT
END:VCALENDAR