BEGIN:VCALENDAR
VERSION:2.0
PRODID:-//accentenoifair.ro - ECPv4.4.5//NONSGML v1.0//EN
CALSCALE:GREGORIAN
METHOD:PUBLISH
X-WR-CALNAME:accentenoifair.ro
X-ORIGINAL-URL:https://accentenoifair.ro
X-WR-CALDESC:Events for accentenoifair.ro
BEGIN:VEVENT
DTSTART;TZID=UTC+0:20150225T000000
DTEND;TZID=UTC+0:20150308T000000
DTSTAMP:20260420T025146
CREATED:20170424T091821Z
LAST-MODIFIED:20170424T114936Z
UID:1724-1424822400-1425772800@accentenoifair.ro
SUMMARY:Targul Martisorului Bucuresti 2015\, editia a VII-a
DESCRIPTION:Cea de a VII-a editie a celui mai important targ de cadouri dedicat zilelor de 1 Martie si 8 Martie se va desfasura in doua dintre cele mai vizitate mall-uri din capitala: Bucuresti Mall (25 feb. - 8 mar.) si Plaza Romania (26 feb. - 8 mar.).\n\nIncepand cu aceasta editie standurile pentru expunerea produselor si serviciilor sunt asigurate de organizator. Acestea vor fi amplasate pe aleile circulate ale centrelor comerciale asigurand vizibilitate maxima tuturor firmelor expozante.\n\nVa reamintim ca pentru participarea in cadrul manifestarii expozitionale firmele expozante care nu au participat anterior la niciun eveniment organizat de Accente NOI Fair trebuie sa transmita pe e-mail o prezentare insotita de fotografii de produs precum si o fotografie de stand de la alte expozitii.\n\nMapa evenimnetelor se obtine prin cerere scrisa la adresele de e-mail din sectiunea contact a site-ului.\n\nVa multumim si va asteptam cu drag sa participati la cele mai apreciate evenimente tematice!\n\n[supsystic-gallery id='20']
URL:https://accentenoifair.ro/event/targul-martisorului-bucuresti-2015-editia-a-vii-a/
END:VEVENT
END:VCALENDAR